BEGIN:VCALENDAR
VERSION:2.0
PRODID:SchoolNow
CALSCALE:GREGORIAN
BEGIN:VEVENT
UID:8e9e9182-d9e9-11ef-8b14-0a58a9feac02
DTSTAMP:20250124T002421Z
SUMMARY:Swimming (Boys V/JV) @ Rensselaer Central High School (Varsity)
LOCATION:Rensselaer Central High School
URL;VALUE=URI:https://www.tricreek.k12.in.us/lhs/calendar/7360965/swimming-
 boys-v-jv-rensselaer-central-high-school-varsity
DTSTART:20250130T233000Z
DTEND:20250131T013000Z
END:VEVENT
END:VCALENDAR
