BEGIN:VCALENDAR
VERSION:2.0
PRODID:SchoolNow
CALSCALE:GREGORIAN
BEGIN:VEVENT
UID:8e9e9326-d9e9-11ef-a2a7-0a58a9feac02
DTSTAMP:20250124T002421Z
SUMMARY:Cross Country (Girls V/JV) @ IHSAA Regional
LOCATION:New Prairie High School
URL;VALUE=URI:https://www.tricreek.k12.in.us/lhs/calendar/7360967/cross-cou
 ntry-girls-v-jv-ihsaa-regional
DTSTART:20241026T153000Z
DTEND:20241026T173000Z
END:VEVENT
END:VCALENDAR
