BEGIN:VCALENDAR
VERSION:2.0
PRODID:SchoolNow
CALSCALE:GREGORIAN
BEGIN:VEVENT
UID:8e9e94d4-d9e9-11ef-987b-0a58a9feac02
DTSTAMP:20250124T002421Z
SUMMARY:Cross Country (Girls V/JV) @ IHSAA Sectional
LOCATION:Highland High School
URL;VALUE=URI:https://www.tricreek.k12.in.us/lhs/calendar/7360969/cross-cou
 ntry-girls-v-jv-ihsaa-sectional
DTSTART:20241019T153000Z
DTEND:20241019T173000Z
END:VEVENT
END:VCALENDAR
