BEGIN:VCALENDAR
VERSION:2.0
PRODID:SchoolNow
CALSCALE:GREGORIAN
BEGIN:VEVENT
UID:8e9e95a6-d9e9-11ef-87c6-0a58a9feac02
DTSTAMP:20250124T002421Z
SUMMARY:Cross Country (Girls V/JV) @ Northwest Crossroads Conference Meet
LOCATION:Kankakee Valley High School
URL;VALUE=URI:https://www.tricreek.k12.in.us/lhs/calendar/7360970/cross-cou
 ntry-girls-v-jv-northwest-crossroads-conference-meet
DTSTART:20241005T140000Z
DTEND:20241005T160000Z
END:VEVENT
END:VCALENDAR
