BEGIN:VCALENDAR
VERSION:2.0
PRODID:SchoolNow
CALSCALE:GREGORIAN
BEGIN:VEVENT
UID:8e9e9678-d9e9-11ef-82c5-0a58a9feac02
DTSTAMP:20250124T002421Z
SUMMARY:Cross Country (Girls V/JV) - Bob Thomas Invitational
LOCATION:Lowell Senior High School
URL;VALUE=URI:https://www.tricreek.k12.in.us/lhs/calendar/7360971/cross-cou
 ntry-girls-v-jv-bob-thomas-invitational
DTSTART:20250913T130000Z
DTEND:20250913T150000Z
END:VEVENT
END:VCALENDAR
