BEGIN:VCALENDAR
VERSION:2.0
PRODID:SchoolNow
CALSCALE:GREGORIAN
BEGIN:VEVENT
UID:8e9e974a-d9e9-11ef-8159-0a58a9feac02
DTSTAMP:20250124T002421Z
SUMMARY:Cross Country (Girls V/JV) - Northwest Crossroads Conference Meet
LOCATION:Lowell Senior High School
URL;VALUE=URI:https://www.tricreek.k12.in.us/lhs/calendar/7360972/cross-cou
 ntry-girls-v-jv-northwest-crossroads-conference-meet
DTSTART:20251004T141500Z
DTEND:20251004T161500Z
END:VEVENT
END:VCALENDAR
