BEGIN:VCALENDAR
VERSION:2.0
PRODID:SchoolNow
CALSCALE:GREGORIAN
BEGIN:VEVENT
UID:8e9e981c-d9e9-11ef-a619-0a58a9feac02
DTSTAMP:20250124T002421Z
SUMMARY:Cross Country (Girls V/JV) @ Highland Invite
LOCATION:Highland High School
URL;VALUE=URI:https://www.tricreek.k12.in.us/lhs/calendar/7360973/cross-cou
 ntry-girls-v-jv-highland-invite
DTSTART:20240928T140000Z
DTEND:20240928T160000Z
END:VEVENT
END:VCALENDAR
