BEGIN:VCALENDAR
VERSION:2.0
PRODID:SchoolNow
CALSCALE:GREGORIAN
BEGIN:VEVENT
UID:8e9e98ee-d9e9-11ef-86f6-0a58a9feac02
DTSTAMP:20250124T002421Z
SUMMARY:PROM
URL;VALUE=URI:https://www.tricreek.k12.in.us/lhs/calendar/7360974/prom
DTSTART:20241211T150000Z
DTEND:20241211T160000Z
END:VEVENT
END:VCALENDAR
