BEGIN:VCALENDAR
VERSION:2.0
PRODID:SchoolNow
CALSCALE:GREGORIAN
BEGIN:VEVENT
UID:8e9e99c0-d9e9-11ef-aed4-0a58a9feac02
DTSTAMP:20250124T002421Z
SUMMARY:Baseball (Boys V) @ Crown Point High School
LOCATION:Crown Point High School
URL;VALUE=URI:https://www.tricreek.k12.in.us/lhs/calendar/7360975/baseball-
 boys-v-crown-point-high-school
DTSTART:20250502T213000Z
DTEND:20250502T233000Z
END:VEVENT
END:VCALENDAR
