BEGIN:VCALENDAR
VERSION:2.0
PRODID:SchoolNow
CALSCALE:GREGORIAN
BEGIN:VEVENT
UID:8e9e9a92-d9e9-11ef-aaa3-0a58a9feac02
DTSTAMP:20250124T002421Z
SUMMARY:Baseball (Boys V) @ Rensselaer Central High School
LOCATION:Rensselaer Central High School
URL;VALUE=URI:https://www.tricreek.k12.in.us/lhs/calendar/7360976/baseball-
 boys-v-rensselaer-central-high-school
DTSTART:20250410T220031Z
DTEND:20250411T000031Z
END:VEVENT
END:VCALENDAR
