BEGIN:VCALENDAR
VERSION:2.0
PRODID:SchoolNow
CALSCALE:GREGORIAN
BEGIN:VEVENT
UID:8e9e9b64-d9e9-11ef-bd73-0a58a9feac02
DTSTAMP:20250124T002421Z
SUMMARY:Baseball (Boys V) @ Highland High School
LOCATION:Highland High School
URL;VALUE=URI:https://www.tricreek.k12.in.us/lhs/calendar/7360977/baseball-
 boys-v-highland-high-school
DTSTART:20250407T214500Z
DTEND:20250407T234500Z
END:VEVENT
END:VCALENDAR
