BEGIN:VCALENDAR
VERSION:2.0
PRODID:SchoolNow
CALSCALE:GREGORIAN
BEGIN:VEVENT
UID:8e9e9c36-d9e9-11ef-8e1c-0a58a9feac02
DTSTAMP:20250124T002421Z
SUMMARY:Baseball (Boys V) @ Kankakee Valley High School
LOCATION:Kankakee Valley High School
URL;VALUE=URI:https://www.tricreek.k12.in.us/lhs/calendar/7360978/baseball-
 boys-v-kankakee-valley-high-school
DTSTART:20250513T214533Z
DTEND:20250513T234533Z
END:VEVENT
END:VCALENDAR
