BEGIN:VCALENDAR
VERSION:2.0
PRODID:SchoolNow
CALSCALE:GREGORIAN
BEGIN:VEVENT
UID:8e9e9d08-d9e9-11ef-b2ae-0a58a9feac02
DTSTAMP:20250124T002421Z
SUMMARY:Baseball (Boys V) @ Hobart High School
LOCATION:Hobart High School
URL;VALUE=URI:https://www.tricreek.k12.in.us/lhs/calendar/7360979/baseball-
 boys-v-hobart-high-school
DTSTART:20250519T214500Z
DTEND:20250519T234500Z
END:VEVENT
END:VCALENDAR
