BEGIN:VCALENDAR
VERSION:2.0
PRODID:SchoolNow
CALSCALE:GREGORIAN
BEGIN:VEVENT
UID:8e9ea8de-d9e9-11ef-8c95-0a58a9feac02
DTSTAMP:20250124T002421Z
SUMMARY:Baseball (Boys V) @ Griffith Senior High School
LOCATION:Griffith Senior High School
URL;VALUE=URI:https://www.tricreek.k12.in.us/lhs/calendar/7360982/baseball-
 boys-v-griffith-senior-high-school
DTSTART:20250417T214540Z
DTEND:20250417T234540Z
END:VEVENT
END:VCALENDAR
