BEGIN:VCALENDAR
VERSION:2.0
PRODID:SchoolNow
CALSCALE:GREGORIAN
BEGIN:VEVENT
UID:8e9eaba4-d9e9-11ef-838a-0a58a9feac02
DTSTAMP:20250124T002421Z
SUMMARY:Baseball (Boys V) - Hanover Central Jr-Sr High School
LOCATION:Lowell Senior High School
URL;VALUE=URI:https://www.tricreek.k12.in.us/lhs/calendar/7360985/baseball-
 boys-v-hanover-central-jr-sr-high-school
DTSTART:20250428T213000Z
DTEND:20250428T233000Z
END:VEVENT
END:VCALENDAR
