BEGIN:VCALENDAR
VERSION:2.0
PRODID:SchoolNow
CALSCALE:GREGORIAN
BEGIN:VEVENT
UID:8e9eac80-d9e9-11ef-be91-0a58a9feac02
DTSTAMP:20250124T002421Z
SUMMARY:Baseball (Boys V) @ Andrean High School
LOCATION:Andrean High School
URL;VALUE=URI:https://www.tricreek.k12.in.us/lhs/calendar/7360986/baseball-
 boys-v-andrean-high-school
DTSTART:20250506T214500Z
DTEND:20250506T234500Z
END:VEVENT
END:VCALENDAR
