BEGIN:VCALENDAR
VERSION:2.0
PRODID:SchoolNow
CALSCALE:GREGORIAN
BEGIN:VEVENT
UID:8f08a1b2-d9e9-11ef-af8c-0a58a9feac02
DTSTAMP:20250124T002422Z
SUMMARY:Baseball (Boys V) - Hebron
LOCATION:Lowell Senior High School
URL;VALUE=URI:https://www.tricreek.k12.in.us/lhs/calendar/7360987/baseball-
 boys-v-hebron
DTSTART:20250501T213000Z
DTEND:20250501T233000Z
END:VEVENT
END:VCALENDAR
