BEGIN:VCALENDAR
VERSION:2.0
PRODID:SchoolNow
CALSCALE:GREGORIAN
BEGIN:VEVENT
UID:8f08a5f4-d9e9-11ef-ac82-0a58a9feac02
DTSTAMP:20250124T002422Z
SUMMARY:Baseball (Boys V) @ Hanover Central Jr-Sr High School
LOCATION:Hanover Central Jr-Sr High School
URL;VALUE=URI:https://www.tricreek.k12.in.us/lhs/calendar/7360988/baseball-
 boys-v-hanover-central-jr-sr-high-school
DTSTART:20250429T213000Z
DTEND:20250429T233000Z
END:VEVENT
END:VCALENDAR
