BEGIN:VCALENDAR
VERSION:2.0
PRODID:SchoolNow
CALSCALE:GREGORIAN
BEGIN:VEVENT
UID:8f08a82e-d9e9-11ef-a89c-0a58a9feac02
DTSTAMP:20250124T002422Z
SUMMARY:Baseball (Boys V) - Illiana Christian High School
LOCATION:Lowell Senior High School
URL;VALUE=URI:https://www.tricreek.k12.in.us/lhs/calendar/7360989/baseball-
 boys-v-illiana-christian-high-school
DTSTART:20250419T150000Z
DTEND:20250419T190000Z
END:VEVENT
END:VCALENDAR
