BEGIN:VCALENDAR
VERSION:2.0
PRODID:SchoolNow
CALSCALE:GREGORIAN
BEGIN:VEVENT
UID:8f08a95a-d9e9-11ef-8384-0a58a9feac02
DTSTAMP:20250124T002422Z
SUMMARY:Baseball (Boys V) @ Lake Central High School
LOCATION:Lake Central High School
URL;VALUE=URI:https://www.tricreek.k12.in.us/lhs/calendar/7360990/baseball-
 boys-v-lake-central-high-school
DTSTART:20250401T213026Z
DTEND:20250401T233026Z
END:VEVENT
END:VCALENDAR
