BEGIN:VCALENDAR
VERSION:2.0
PRODID:SchoolNow
CALSCALE:GREGORIAN
BEGIN:VEVENT
UID:8f08ab12-d9e9-11ef-a84f-0a58a9feac02
DTSTAMP:20250124T002422Z
SUMMARY:Baseball (Boys V) - Kankakee Valley High School
LOCATION:Lowell Senior High School
URL;VALUE=URI:https://www.tricreek.k12.in.us/lhs/calendar/7360991/baseball-
 boys-v-kankakee-valley-high-school
DTSTART:20250512T214500Z
DTEND:20250512T234500Z
END:VEVENT
END:VCALENDAR
