BEGIN:VCALENDAR
VERSION:2.0
PRODID:SchoolNow
CALSCALE:GREGORIAN
BEGIN:VEVENT
UID:8f08ac5c-d9e9-11ef-98d1-0a58a9feac02
DTSTAMP:20250124T002422Z
SUMMARY:Baseball (Boys V) - Highland High School
LOCATION:Lowell Senior High School
URL;VALUE=URI:https://www.tricreek.k12.in.us/lhs/calendar/7360992/baseball-
 boys-v-highland-high-school
DTSTART:20250408T214500Z
DTEND:20250408T234500Z
END:VEVENT
END:VCALENDAR
