BEGIN:VCALENDAR
VERSION:2.0
PRODID:SchoolNow
CALSCALE:GREGORIAN
BEGIN:VEVENT
UID:8f08ad4c-d9e9-11ef-bf77-0a58a9feac02
DTSTAMP:20250124T002422Z
SUMMARY:Baseball (Boys V) - LaPorte High School
LOCATION:Lowell Senior High School
URL;VALUE=URI:https://www.tricreek.k12.in.us/lhs/calendar/7360993/baseball-
 boys-v-laporte-high-school
DTSTART:20250517T150000Z
DTEND:20250517T190000Z
END:VEVENT
END:VCALENDAR
