BEGIN:VCALENDAR
VERSION:2.0
PRODID:SchoolNow
CALSCALE:GREGORIAN
BEGIN:VEVENT
UID:8f08af40-d9e9-11ef-a631-0a58a9feac02
DTSTAMP:20250124T002422Z
SUMMARY:Baseball (Boys V) - Merrillville High School
LOCATION:Lowell Senior High School
URL;VALUE=URI:https://www.tricreek.k12.in.us/lhs/calendar/7360994/baseball-
 boys-v-merrillville-high-school
DTSTART:20250411T150000Z
DTEND:20250411T170000Z
END:VEVENT
END:VCALENDAR
