BEGIN:VCALENDAR
VERSION:2.0
PRODID:SchoolNow
CALSCALE:GREGORIAN
BEGIN:VEVENT
UID:8f08b094-d9e9-11ef-b521-0a58a9feac02
DTSTAMP:20250124T002422Z
SUMMARY:Baseball (Boys V) @ Munster High School
LOCATION:Munster High School
URL;VALUE=URI:https://www.tricreek.k12.in.us/lhs/calendar/7360995/baseball-
 boys-v-munster-high-school
DTSTART:20250421T220000Z
DTEND:20250422T000000Z
END:VEVENT
END:VCALENDAR
