BEGIN:VCALENDAR
VERSION:2.0
PRODID:SchoolNow
CALSCALE:GREGORIAN
BEGIN:VEVENT
UID:8f08b1e8-d9e9-11ef-a7cc-0a58a9feac02
DTSTAMP:20250124T002422Z
SUMMARY:Baseball (Boys V) - Morgan Township Middle/High School
LOCATION:Lowell Senior High School
URL;VALUE=URI:https://www.tricreek.k12.in.us/lhs/calendar/7360996/baseball-
 boys-v-morgan-township-middle-high-school
DTSTART:20250503T150049Z
DTEND:20250503T170049Z
END:VEVENT
END:VCALENDAR
