BEGIN:VCALENDAR
VERSION:2.0
PRODID:SchoolNow
CALSCALE:GREGORIAN
BEGIN:VEVENT
UID:8f08b5f8-d9e9-11ef-a230-0a58a9feac02
DTSTAMP:20250124T002422Z
SUMMARY:Baseball (Boys V) - Munster High School
LOCATION:Lowell Senior High School
URL;VALUE=URI:https://www.tricreek.k12.in.us/lhs/calendar/7360997/baseball-
 boys-v-munster-high-school
DTSTART:20250422T220000Z
DTEND:20250423T000000Z
END:VEVENT
END:VCALENDAR
