BEGIN:VCALENDAR
VERSION:2.0
PRODID:SchoolNow
CALSCALE:GREGORIAN
BEGIN:VEVENT
UID:8f08b724-d9e9-11ef-ac2c-0a58a9feac02
DTSTAMP:20250124T002422Z
SUMMARY:Baseball (Boys V) - South Central Jr-Sr High School (Union Mills)
LOCATION:Lowell Senior High School
URL;VALUE=URI:https://www.tricreek.k12.in.us/lhs/calendar/7360998/baseball-
 boys-v-south-central-jr-sr-high-school-union-mills
DTSTART:20250329T160020Z
DTEND:20250329T180020Z
END:VEVENT
END:VCALENDAR
