BEGIN:VCALENDAR
VERSION:2.0
PRODID:SchoolNow
CALSCALE:GREGORIAN
BEGIN:VEVENT
UID:8f08b828-d9e9-11ef-a393-0a58a9feac02
DTSTAMP:20250124T002422Z
SUMMARY:Baseball (Boys V) - Boone Grove High School
LOCATION:Lowell Senior High School
URL;VALUE=URI:https://www.tricreek.k12.in.us/lhs/calendar/7360999/baseball-
 boys-v-boone-grove-high-school
DTSTART:20250416T213009Z
DTEND:20250416T233009Z
END:VEVENT
END:VCALENDAR
