BEGIN:VCALENDAR
VERSION:2.0
PRODID:SchoolNow
CALSCALE:GREGORIAN
BEGIN:VEVENT
UID:8f08b918-d9e9-11ef-9cce-0a58a9feac02
DTSTAMP:20250124T002422Z
SUMMARY:Wrestling (Boys F) @ Crown Point High School
LOCATION:Crown Point High School
URL;VALUE=URI:https://www.tricreek.k12.in.us/lhs/calendar/7361000/wrestling
 -boys-f-crown-point-high-school
DTSTART:20241217T000000Z
DTEND:20241217T020000Z
END:VEVENT
END:VCALENDAR
