BEGIN:VCALENDAR
VERSION:2.0
PRODID:SchoolNow
CALSCALE:GREGORIAN
BEGIN:VEVENT
UID:8f08ba30-d9e9-11ef-9ec3-0a58a9feac02
DTSTAMP:20250124T002422Z
SUMMARY:Softball (Girls V) - Andrean High School
LOCATION:Lowell Senior High School
URL;VALUE=URI:https://www.tricreek.k12.in.us/lhs/calendar/7361001/softball-
 girls-v-andrean-high-school
DTSTART:20250421T214500Z
DTEND:20250421T234500Z
END:VEVENT
END:VCALENDAR
