BEGIN:VCALENDAR
VERSION:2.0
PRODID:SchoolNow
CALSCALE:GREGORIAN
BEGIN:VEVENT
UID:8f08bdaa-d9e9-11ef-bc9d-0a58a9feac02
DTSTAMP:20250124T002422Z
SUMMARY:Softball (Girls V) - Munster High School
LOCATION:Lowell Senior High School
URL;VALUE=URI:https://www.tricreek.k12.in.us/lhs/calendar/7361005/softball-
 girls-v-munster-high-school
DTSTART:20250416T220000Z
DTEND:20250417T000000Z
END:VEVENT
END:VCALENDAR
