BEGIN:VCALENDAR
VERSION:2.0
PRODID:SchoolNow
CALSCALE:GREGORIAN
BEGIN:VEVENT
UID:8f08be7c-d9e9-11ef-8e9b-0a58a9feac02
DTSTAMP:20250124T002422Z
SUMMARY:Softball (Girls V) @ Munster High School
LOCATION:Munster High School
URL;VALUE=URI:https://www.tricreek.k12.in.us/lhs/calendar/7361006/softball-
 girls-v-munster-high-school
DTSTART:20250506T220000Z
DTEND:20250507T000000Z
END:VEVENT
END:VCALENDAR
