BEGIN:VCALENDAR
VERSION:2.0
PRODID:SchoolNow
CALSCALE:GREGORIAN
BEGIN:VEVENT
UID:8f08bf58-d9e9-11ef-ba7b-0a58a9feac02
DTSTAMP:20250124T002422Z
SUMMARY:Softball (Girls V) - Chesterton High School
LOCATION:Lowell
URL;VALUE=URI:https://www.tricreek.k12.in.us/lhs/calendar/7361007/softball-
 girls-v-chesterton-high-school
DTSTART:20250522T220000Z
DTEND:20250523T000000Z
END:VEVENT
END:VCALENDAR
