BEGIN:VCALENDAR
VERSION:2.0
PRODID:SchoolNow
CALSCALE:GREGORIAN
BEGIN:VEVENT
UID:8f08c106-d9e9-11ef-ade0-0a58a9feac02
DTSTAMP:20250124T002422Z
SUMMARY:Softball (Girls V) @ Hanover Central Jr-Sr High School
LOCATION:Hanover Central Jr-Sr High School
URL;VALUE=URI:https://www.tricreek.k12.in.us/lhs/calendar/7361009/softball-
 girls-v-hanover-central-jr-sr-high-school
DTSTART:20250417T214500Z
DTEND:20250417T234500Z
END:VEVENT
END:VCALENDAR
