BEGIN:VCALENDAR
VERSION:2.0
PRODID:SchoolNow
CALSCALE:GREGORIAN
BEGIN:VEVENT
UID:8f08c1d8-d9e9-11ef-a4ae-0a58a9feac02
DTSTAMP:20250124T002422Z
SUMMARY:Softball (Girls V) - Lake Central High School
LOCATION:Lowell Senior High School
URL;VALUE=URI:https://www.tricreek.k12.in.us/lhs/calendar/7361010/softball-
 girls-v-lake-central-high-school
DTSTART:20250407T213000Z
DTEND:20250407T233000Z
END:VEVENT
END:VCALENDAR
