BEGIN:VCALENDAR
VERSION:2.0
PRODID:SchoolNow
CALSCALE:GREGORIAN
BEGIN:VEVENT
UID:8f08c598-d9e9-11ef-aa9d-0a58a9feac02
DTSTAMP:20250124T002422Z
SUMMARY:Softball (Girls V) - Illiana Christian High School
LOCATION:Lowell Senior High School
URL;VALUE=URI:https://www.tricreek.k12.in.us/lhs/calendar/7361011/softball-
 girls-v-illiana-christian-high-school
DTSTART:20250508T220000Z
DTEND:20250509T000000Z
END:VEVENT
END:VCALENDAR
