BEGIN:VCALENDAR
VERSION:2.0
PRODID:SchoolNow
CALSCALE:GREGORIAN
BEGIN:VEVENT
UID:8f08caa2-d9e9-11ef-9a44-0a58a9feac02
DTSTAMP:20250124T002422Z
SUMMARY:Softball (Girls V) @ TL Invitational
LOCATION:Twin Lakes Senior High School
URL;VALUE=URI:https://www.tricreek.k12.in.us/lhs/calendar/7361012/softball-
 girls-v-tl-invitational
DTSTART:20250509T210000Z
DTEND:20250509T230000Z
END:VEVENT
END:VCALENDAR
