BEGIN:VCALENDAR
VERSION:2.0
PRODID:SchoolNow
CALSCALE:GREGORIAN
BEGIN:VEVENT
UID:8f08cc0a-d9e9-11ef-8e55-0a58a9feac02
DTSTAMP:20250124T002422Z
SUMMARY:Softball (Girls V) @ Hebron
LOCATION:Hebron
URL;VALUE=URI:https://www.tricreek.k12.in.us/lhs/calendar/7361013/softball-
 girls-v-hebron
DTSTART:20250520T213000Z
DTEND:20250520T233000Z
END:VEVENT
END:VCALENDAR
