BEGIN:VCALENDAR
VERSION:2.0
PRODID:SchoolNow
CALSCALE:GREGORIAN
BEGIN:VEVENT
UID:8f08d1aa-d9e9-11ef-a9df-0a58a9feac02
DTSTAMP:20250124T002422Z
SUMMARY:Softball (Girls V) @ Boone Grove High School
LOCATION:Boone Grove High School
URL;VALUE=URI:https://www.tricreek.k12.in.us/lhs/calendar/7361017/softball-
 girls-v-boone-grove-high-school
DTSTART:20250409T214500Z
DTEND:20250409T234500Z
END:VEVENT
END:VCALENDAR
