BEGIN:VCALENDAR
VERSION:2.0
PRODID:SchoolNow
CALSCALE:GREGORIAN
BEGIN:VEVENT
UID:8f08d2cc-d9e9-11ef-8b66-0a58a9feac02
DTSTAMP:20250124T002422Z
SUMMARY:Softball (Girls V) - Valparaiso High School
URL;VALUE=URI:https://www.tricreek.k12.in.us/lhs/calendar/7361018/softball-
 girls-v-valparaiso-high-school
DTSTART:20250419T150000Z
DTEND:20250419T170000Z
END:VEVENT
END:VCALENDAR
