BEGIN:VCALENDAR
VERSION:2.0
PRODID:SchoolNow
CALSCALE:GREGORIAN
BEGIN:VEVENT
UID:8f08d3bc-d9e9-11ef-b225-0a58a9feac02
DTSTAMP:20250124T002422Z
SUMMARY:Softball (Girls V) @ Kankakee Valley High School
LOCATION:Kankakee Valley High School
URL;VALUE=URI:https://www.tricreek.k12.in.us/lhs/calendar/7361019/softball-
 girls-v-kankakee-valley-high-school
DTSTART:20250408T214500Z
DTEND:20250408T234500Z
END:VEVENT
END:VCALENDAR
