BEGIN:VCALENDAR
VERSION:2.0
PRODID:SchoolNow
CALSCALE:GREGORIAN
BEGIN:VEVENT
UID:8f08d664-d9e9-11ef-bafd-0a58a9feac02
DTSTAMP:20250124T002422Z
SUMMARY:Softball (Girls V) @ La Porte (Tournament)
LOCATION:LaPorte High School
URL;VALUE=URI:https://www.tricreek.k12.in.us/lhs/calendar/7361022/softball-
 girls-v-la-porte-tournament
DTSTART:20250503T140000Z
DTEND:20250503T160000Z
END:VEVENT
END:VCALENDAR
