BEGIN:VCALENDAR
VERSION:2.0
PRODID:SchoolNow
CALSCALE:GREGORIAN
BEGIN:VEVENT
UID:8f08d74a-d9e9-11ef-9bbf-0a58a9feac02
DTSTAMP:20250124T002422Z
SUMMARY:Softball (Girls V) @ IHSAA Sectional
LOCATION:Chesterton Senior High School
URL;VALUE=URI:https://www.tricreek.k12.in.us/lhs/calendar/7361023/softball-
 girls-v-ihsaa-sectional
DTSTART:20250529T220000Z
DTEND:20250530T000000Z
END:VEVENT
END:VCALENDAR
