BEGIN:VCALENDAR
VERSION:2.0
PRODID:SchoolNow
CALSCALE:GREGORIAN
BEGIN:VEVENT
UID:8f08d81c-d9e9-11ef-9551-0a58a9feac02
DTSTAMP:20250124T002422Z
SUMMARY:Softball (Girls V) - Highland High School
LOCATION:Lowell Senior High School
URL;VALUE=URI:https://www.tricreek.k12.in.us/lhs/calendar/7361024/softball-
 girls-v-highland-high-school
DTSTART:20250414T214500Z
DTEND:20250414T234500Z
END:VEVENT
END:VCALENDAR
