BEGIN:VCALENDAR
VERSION:2.0
PRODID:SchoolNow
CALSCALE:GREGORIAN
BEGIN:VEVENT
UID:8f08d920-d9e9-11ef-84f3-0a58a9feac02
DTSTAMP:20250124T002422Z
SUMMARY:Softball (Girls V) - Crown Point High School
LOCATION:Lowell Senior High School
URL;VALUE=URI:https://www.tricreek.k12.in.us/lhs/calendar/7361025/softball-
 girls-v-crown-point-high-school
DTSTART:20250521T213031Z
DTEND:20250521T233031Z
END:VEVENT
END:VCALENDAR
