BEGIN:VCALENDAR
VERSION:2.0
PRODID:SchoolNow
CALSCALE:GREGORIAN
BEGIN:VEVENT
UID:8f08dace-d9e9-11ef-8e45-0a58a9feac02
DTSTAMP:20250124T002422Z
SUMMARY:Softball (Girls V) - Merrillville High School
LOCATION:Lowell Senior High School
URL;VALUE=URI:https://www.tricreek.k12.in.us/lhs/calendar/7361027/softball-
 girls-v-merrillville-high-school
DTSTART:20250426T150000Z
DTEND:20250426T170000Z
END:VEVENT
END:VCALENDAR
