BEGIN:VCALENDAR
VERSION:2.0
PRODID:SchoolNow
CALSCALE:GREGORIAN
BEGIN:VEVENT
UID:8f08dc86-d9e9-11ef-a622-0a58a9feac02
DTSTAMP:20250124T002422Z
SUMMARY:Soccer (Girls V) - Lake Central High School
LOCATION:Lowell Senior High School
URL;VALUE=URI:https://www.tricreek.k12.in.us/lhs/calendar/7361029/soccer-gi
 rls-v-lake-central-high-school
DTSTART:20241003T233000Z
DTEND:20241004T013000Z
END:VEVENT
END:VCALENDAR
