BEGIN:VCALENDAR
VERSION:2.0
PRODID:SchoolNow
CALSCALE:GREGORIAN
BEGIN:VEVENT
UID:8f08df10-d9e9-11ef-8564-0a58a9feac02
DTSTAMP:20250124T002422Z
SUMMARY:Soccer (Girls V) - Andrean
LOCATION:Lowell Senior High School
URL;VALUE=URI:https://www.tricreek.k12.in.us/lhs/calendar/7361032/soccer-gi
 rls-v-andrean
DTSTART:20250924T000000Z
DTEND:20250924T020000Z
END:VEVENT
END:VCALENDAR
