BEGIN:VCALENDAR
VERSION:2.0
PRODID:SchoolNow
CALSCALE:GREGORIAN
BEGIN:VEVENT
UID:8f08dfe2-d9e9-11ef-81f8-0a58a9feac02
DTSTAMP:20250124T002422Z
SUMMARY:Soccer (Girls V) - Munster High School
LOCATION:Lowell Senior High School
URL;VALUE=URI:https://www.tricreek.k12.in.us/lhs/calendar/7361033/soccer-gi
 rls-v-munster-high-school
DTSTART:20250826T233000Z
DTEND:20250827T013000Z
END:VEVENT
END:VCALENDAR
